BEGIN:VCALENDAR
VERSION:2.0
PRODID:https://www.kufer.de/kuferweb / DE
METHOD:PUBLISH
CALSCALE:GREGORIAN
X-WR-TIMEZONE:Europe/Berlin
BEGIN:VTIMEZONE
TZID:Europe/Berlin
X-LIC-LOCATION:Europe/Berlin
BEGIN:DAYLIGHT
TZOFFSETFROM:+0100
TZOFFSETTO:+0200
TZNAME:CEST
DTSTART:19700329T020000
RRULE:FREQ=YEARLY;INTERVAL=1;BYDAY=-1SU;BYMONTH=3
END:DAYLIGHT
BEGIN:STANDARD
TZOFFSETFROM:+0200
TZOFFSETTO:+0100
TZNAME:CET
DTSTART:19701025T030000
RRULE:FREQ=YEARLY;INTERVAL=1;BYDAY=-1SU;BYMONTH=10
END:STANDARD
END:VTIMEZONE
BEGIN:VEVENT
DTSTAMP:20260422T225258
DTSTART;TZID=Europe/Berlin:20260912T150000
DTEND;TZID=Europe/Berlin:20260912T180000
UID:H95015-20260912T150000@VHSWIESBADEN E.V.
SUMMARY:3D-Druck für Kids (9-13 Jahre) (H95015) 
LOCATION:vhs-B-212, EDV-Raum, Alcide-de-Gasperi-Str. 5, 65197 Wiesbaden
END:VEVENT
BEGIN:VEVENT
DTSTAMP:20260422T225258
DTSTART;TZID=Europe/Berlin:20260919T150000
DTEND;TZID=Europe/Berlin:20260919T180000
UID:H95015-20260919T150000@VHSWIESBADEN E.V.
SUMMARY:3D-Druck für Kids (9-13 Jahre) (H95015) 
LOCATION:vhs-B-212, EDV-Raum, Alcide-de-Gasperi-Str. 5, 65197 Wiesbaden
END:VEVENT
BEGIN:VEVENT
DTSTAMP:20260422T225258
DTSTART;TZID=Europe/Berlin:20260926T150000
DTEND;TZID=Europe/Berlin:20260926T180000
UID:H95015-20260926T150000@VHSWIESBADEN E.V.
SUMMARY:3D-Druck für Kids (9-13 Jahre) (H95015) 
LOCATION:vhs-B-212, EDV-Raum, Alcide-de-Gasperi-Str. 5, 65197 Wiesbaden
END:VEVENT
END:VCALENDAR