BEGIN:VCALENDAR
VERSION:2.0
PRODID:https://www.kufer.de/kuferweb / DE
METHOD:PUBLISH
CALSCALE:GREGORIAN
X-WR-TIMEZONE:Europe/Berlin
BEGIN:VTIMEZONE
TZID:Europe/Berlin
X-LIC-LOCATION:Europe/Berlin
BEGIN:DAYLIGHT
TZOFFSETFROM:+0100
TZOFFSETTO:+0200
TZNAME:CEST
DTSTART:19700329T020000
RRULE:FREQ=YEARLY;INTERVAL=1;BYDAY=-1SU;BYMONTH=3
END:DAYLIGHT
BEGIN:STANDARD
TZOFFSETFROM:+0200
TZOFFSETTO:+0100
TZNAME:CET
DTSTART:19701025T030000
RRULE:FREQ=YEARLY;INTERVAL=1;BYDAY=-1SU;BYMONTH=10
END:STANDARD
END:VTIMEZONE
BEGIN:VEVENT
DTSTAMP:20260420T142644
DTSTART;TZID=Europe/Berlin:20260926T110000
DTEND;TZID=Europe/Berlin:20260926T140000
UID:H51552-20260926T110000@VHSWIESBADEN E.V.
SUMMARY:ADHS im Arbeitsleben - online Stolpersteine erkennen und zu eigenen Stärken machen (H51552) 
LOCATION:vhs.cloud ZoomX, , 
END:VEVENT
BEGIN:VEVENT
DTSTAMP:20260420T142644
DTSTART;TZID=Europe/Berlin:20260927T110000
DTEND;TZID=Europe/Berlin:20260927T140000
UID:H51552-20260927T110000@VHSWIESBADEN E.V.
SUMMARY:ADHS im Arbeitsleben - online Stolpersteine erkennen und zu eigenen Stärken machen (H51552) 
LOCATION:vhs.cloud ZoomX, , 
END:VEVENT
END:VCALENDAR