BEGIN:VCALENDAR
VERSION:2.0
PRODID:https://www.kufer.de/kuferweb / DE
METHOD:PUBLISH
CALSCALE:GREGORIAN
X-WR-TIMEZONE:Europe/Berlin
BEGIN:VTIMEZONE
TZID:Europe/Berlin
X-LIC-LOCATION:Europe/Berlin
BEGIN:DAYLIGHT
TZOFFSETFROM:+0100
TZOFFSETTO:+0200
TZNAME:CEST
DTSTART:19700329T020000
RRULE:FREQ=YEARLY;INTERVAL=1;BYDAY=-1SU;BYMONTH=3
END:DAYLIGHT
BEGIN:STANDARD
TZOFFSETFROM:+0200
TZOFFSETTO:+0100
TZNAME:CET
DTSTART:19701025T030000
RRULE:FREQ=YEARLY;INTERVAL=1;BYDAY=-1SU;BYMONTH=10
END:STANDARD
END:VTIMEZONE
BEGIN:VEVENT
DTSTAMP:20260423T004929
DTSTART;TZID=Europe/Berlin:20261103T183000
DTEND;TZID=Europe/Berlin:20261103T203000
UID:H50190-20261103T183000@VHSWIESBADEN E.V.
SUMMARY:Lohn und Gehalt 1 Xpert Business - online (H50190) 
LOCATION:Xpert Business LernNetz, , 
END:VEVENT
BEGIN:VEVENT
DTSTAMP:20260423T004929
DTSTART;TZID=Europe/Berlin:20261105T183000
DTEND;TZID=Europe/Berlin:20261105T203000
UID:H50190-20261105T183000@VHSWIESBADEN E.V.
SUMMARY:Lohn und Gehalt 1 Xpert Business - online (H50190) 
LOCATION:Xpert Business LernNetz, , 
END:VEVENT
BEGIN:VEVENT
DTSTAMP:20260423T004929
DTSTART;TZID=Europe/Berlin:20261110T183000
DTEND;TZID=Europe/Berlin:20261110T203000
UID:H50190-20261110T183000@VHSWIESBADEN E.V.
SUMMARY:Lohn und Gehalt 1 Xpert Business - online (H50190) 
LOCATION:Xpert Business LernNetz, , 
END:VEVENT
BEGIN:VEVENT
DTSTAMP:20260423T004929
DTSTART;TZID=Europe/Berlin:20261112T183000
DTEND;TZID=Europe/Berlin:20261112T203000
UID:H50190-20261112T183000@VHSWIESBADEN E.V.
SUMMARY:Lohn und Gehalt 1 Xpert Business - online (H50190) 
LOCATION:Xpert Business LernNetz, , 
END:VEVENT
BEGIN:VEVENT
DTSTAMP:20260423T004929
DTSTART;TZID=Europe/Berlin:20261117T183000
DTEND;TZID=Europe/Berlin:20261117T203000
UID:H50190-20261117T183000@VHSWIESBADEN E.V.
SUMMARY:Lohn und Gehalt 1 Xpert Business - online (H50190) 
LOCATION:Xpert Business LernNetz, , 
END:VEVENT
BEGIN:VEVENT
DTSTAMP:20260423T004929
DTSTART;TZID=Europe/Berlin:20261119T183000
DTEND;TZID=Europe/Berlin:20261119T203000
UID:H50190-20261119T183000@VHSWIESBADEN E.V.
SUMMARY:Lohn und Gehalt 1 Xpert Business - online (H50190) 
LOCATION:Xpert Business LernNetz, , 
END:VEVENT
BEGIN:VEVENT
DTSTAMP:20260423T004929
DTSTART;TZID=Europe/Berlin:20261124T183000
DTEND;TZID=Europe/Berlin:20261124T203000
UID:H50190-20261124T183000@VHSWIESBADEN E.V.
SUMMARY:Lohn und Gehalt 1 Xpert Business - online (H50190) 
LOCATION:Xpert Business LernNetz, , 
END:VEVENT
BEGIN:VEVENT
DTSTAMP:20260423T004929
DTSTART;TZID=Europe/Berlin:20261201T183000
DTEND;TZID=Europe/Berlin:20261201T203000
UID:H50190-20261201T183000@VHSWIESBADEN E.V.
SUMMARY:Lohn und Gehalt 1 Xpert Business - online (H50190) 
LOCATION:Xpert Business LernNetz, , 
END:VEVENT
BEGIN:VEVENT
DTSTAMP:20260423T004929
DTSTART;TZID=Europe/Berlin:20261203T183000
DTEND;TZID=Europe/Berlin:20261203T203000
UID:H50190-20261203T183000@VHSWIESBADEN E.V.
SUMMARY:Lohn und Gehalt 1 Xpert Business - online (H50190) 
LOCATION:Xpert Business LernNetz, , 
END:VEVENT
BEGIN:VEVENT
DTSTAMP:20260423T004929
DTSTART;TZID=Europe/Berlin:20261208T183000
DTEND;TZID=Europe/Berlin:20261208T203000
UID:H50190-20261208T183000@VHSWIESBADEN E.V.
SUMMARY:Lohn und Gehalt 1 Xpert Business - online (H50190) 
LOCATION:Xpert Business LernNetz, , 
END:VEVENT
BEGIN:VEVENT
DTSTAMP:20260423T004929
DTSTART;TZID=Europe/Berlin:20261210T183000
DTEND;TZID=Europe/Berlin:20261210T203000
UID:H50190-20261210T183000@VHSWIESBADEN E.V.
SUMMARY:Lohn und Gehalt 1 Xpert Business - online (H50190) 
LOCATION:Xpert Business LernNetz, , 
END:VEVENT
BEGIN:VEVENT
DTSTAMP:20260423T004929
DTSTART;TZID=Europe/Berlin:20261215T183000
DTEND;TZID=Europe/Berlin:20261215T203000
UID:H50190-20261215T183000@VHSWIESBADEN E.V.
SUMMARY:Lohn und Gehalt 1 Xpert Business - online (H50190) 
LOCATION:Xpert Business LernNetz, , 
END:VEVENT
BEGIN:VEVENT
DTSTAMP:20260423T004929
DTSTART;TZID=Europe/Berlin:20261217T183000
DTEND;TZID=Europe/Berlin:20261217T203000
UID:H50190-20261217T183000@VHSWIESBADEN E.V.
SUMMARY:Lohn und Gehalt 1 Xpert Business - online (H50190) 
LOCATION:Xpert Business LernNetz, , 
END:VEVENT
BEGIN:VEVENT
DTSTAMP:20260423T004929
DTSTART;TZID=Europe/Berlin:20270105T183000
DTEND;TZID=Europe/Berlin:20270105T203000
UID:H50190-20270105T183000@VHSWIESBADEN E.V.
SUMMARY:Lohn und Gehalt 1 Xpert Business - online (H50190) 
LOCATION:Xpert Business LernNetz, , 
END:VEVENT
BEGIN:VEVENT
DTSTAMP:20260423T004929
DTSTART;TZID=Europe/Berlin:20270107T183000
DTEND;TZID=Europe/Berlin:20270107T203000
UID:H50190-20270107T183000@VHSWIESBADEN E.V.
SUMMARY:Lohn und Gehalt 1 Xpert Business - online (H50190) 
LOCATION:Xpert Business LernNetz, , 
END:VEVENT
BEGIN:VEVENT
DTSTAMP:20260423T004929
DTSTART;TZID=Europe/Berlin:20270112T183000
DTEND;TZID=Europe/Berlin:20270112T203000
UID:H50190-20270112T183000@VHSWIESBADEN E.V.
SUMMARY:Lohn und Gehalt 1 Xpert Business - online (H50190) 
LOCATION:Xpert Business LernNetz, , 
END:VEVENT
BEGIN:VEVENT
DTSTAMP:20260423T004929
DTSTART;TZID=Europe/Berlin:20270114T183000
DTEND;TZID=Europe/Berlin:20270114T203000
UID:H50190-20270114T183000@VHSWIESBADEN E.V.
SUMMARY:Lohn und Gehalt 1 Xpert Business - online (H50190) 
LOCATION:Xpert Business LernNetz, , 
END:VEVENT
BEGIN:VEVENT
DTSTAMP:20260423T004929
DTSTART;TZID=Europe/Berlin:20270119T183000
DTEND;TZID=Europe/Berlin:20270119T203000
UID:H50190-20270119T183000@VHSWIESBADEN E.V.
SUMMARY:Lohn und Gehalt 1 Xpert Business - online (H50190) 
LOCATION:Xpert Business LernNetz, , 
END:VEVENT
BEGIN:VEVENT
DTSTAMP:20260423T004929
DTSTART;TZID=Europe/Berlin:20270121T183000
DTEND;TZID=Europe/Berlin:20270121T203000
UID:H50190-20270121T183000@VHSWIESBADEN E.V.
SUMMARY:Lohn und Gehalt 1 Xpert Business - online (H50190) 
LOCATION:Xpert Business LernNetz, , 
END:VEVENT
BEGIN:VEVENT
DTSTAMP:20260423T004929
DTSTART;TZID=Europe/Berlin:20270126T183000
DTEND;TZID=Europe/Berlin:20270126T203000
UID:H50190-20270126T183000@VHSWIESBADEN E.V.
SUMMARY:Lohn und Gehalt 1 Xpert Business - online (H50190) 
LOCATION:Xpert Business LernNetz, , 
END:VEVENT
BEGIN:VEVENT
DTSTAMP:20260423T004929
DTSTART;TZID=Europe/Berlin:20270128T183000
DTEND;TZID=Europe/Berlin:20270128T203000
UID:H50190-20270128T183000@VHSWIESBADEN E.V.
SUMMARY:Lohn und Gehalt 1 Xpert Business - online (H50190) 
LOCATION:Xpert Business LernNetz, , 
END:VEVENT
BEGIN:VEVENT
DTSTAMP:20260423T004929
DTSTART;TZID=Europe/Berlin:20270202T183000
DTEND;TZID=Europe/Berlin:20270202T203000
UID:H50190-20270202T183000@VHSWIESBADEN E.V.
SUMMARY:Lohn und Gehalt 1 Xpert Business - online (H50190) 
LOCATION:Xpert Business LernNetz, , 
END:VEVENT
BEGIN:VEVENT
DTSTAMP:20260423T004929
DTSTART;TZID=Europe/Berlin:20270204T183000
DTEND;TZID=Europe/Berlin:20270204T203000
UID:H50190-20270204T183000@VHSWIESBADEN E.V.
SUMMARY:Lohn und Gehalt 1 Xpert Business - online (H50190) 
LOCATION:Xpert Business LernNetz, , 
END:VEVENT
BEGIN:VEVENT
DTSTAMP:20260423T004929
DTSTART;TZID=Europe/Berlin:20270209T183000
DTEND;TZID=Europe/Berlin:20270209T203000
UID:H50190-20270209T183000@VHSWIESBADEN E.V.
SUMMARY:Lohn und Gehalt 1 Xpert Business - online (H50190) 
LOCATION:Xpert Business LernNetz, , 
END:VEVENT
BEGIN:VEVENT
DTSTAMP:20260423T004929
DTSTART;TZID=Europe/Berlin:20270211T183000
DTEND;TZID=Europe/Berlin:20270211T203000
UID:H50190-20270211T183000@VHSWIESBADEN E.V.
SUMMARY:Lohn und Gehalt 1 Xpert Business - online (H50190) 
LOCATION:Xpert Business LernNetz, , 
END:VEVENT
END:VCALENDAR