BEGIN:VCALENDAR
VERSION:2.0
PRODID:https://www.kufer.de/kuferweb / DE
METHOD:PUBLISH
CALSCALE:GREGORIAN
X-WR-TIMEZONE:Europe/Berlin
BEGIN:VTIMEZONE
TZID:Europe/Berlin
X-LIC-LOCATION:Europe/Berlin
BEGIN:DAYLIGHT
TZOFFSETFROM:+0100
TZOFFSETTO:+0200
TZNAME:CEST
DTSTART:19700329T020000
RRULE:FREQ=YEARLY;INTERVAL=1;BYDAY=-1SU;BYMONTH=3
END:DAYLIGHT
BEGIN:STANDARD
TZOFFSETFROM:+0200
TZOFFSETTO:+0100
TZNAME:CET
DTSTART:19701025T030000
RRULE:FREQ=YEARLY;INTERVAL=1;BYDAY=-1SU;BYMONTH=10
END:STANDARD
END:VTIMEZONE
BEGIN:VEVENT
DTSTAMP:20260423T013206
DTSTART;TZID=Europe/Berlin:20261102T183000
DTEND;TZID=Europe/Berlin:20261102T203000
UID:H50110-20261102T183000@VHSWIESBADEN E.V.
SUMMARY:Finanzbuchführung 2 Xpert Business - online (H50110) 
LOCATION:Xpert Business LernNetz, , 
END:VEVENT
BEGIN:VEVENT
DTSTAMP:20260423T013206
DTSTART;TZID=Europe/Berlin:20261104T183000
DTEND;TZID=Europe/Berlin:20261104T203000
UID:H50110-20261104T183000@VHSWIESBADEN E.V.
SUMMARY:Finanzbuchführung 2 Xpert Business - online (H50110) 
LOCATION:Xpert Business LernNetz, , 
END:VEVENT
BEGIN:VEVENT
DTSTAMP:20260423T013206
DTSTART;TZID=Europe/Berlin:20261109T183000
DTEND;TZID=Europe/Berlin:20261109T203000
UID:H50110-20261109T183000@VHSWIESBADEN E.V.
SUMMARY:Finanzbuchführung 2 Xpert Business - online (H50110) 
LOCATION:Xpert Business LernNetz, , 
END:VEVENT
BEGIN:VEVENT
DTSTAMP:20260423T013206
DTSTART;TZID=Europe/Berlin:20261111T183000
DTEND;TZID=Europe/Berlin:20261111T203000
UID:H50110-20261111T183000@VHSWIESBADEN E.V.
SUMMARY:Finanzbuchführung 2 Xpert Business - online (H50110) 
LOCATION:Xpert Business LernNetz, , 
END:VEVENT
BEGIN:VEVENT
DTSTAMP:20260423T013206
DTSTART;TZID=Europe/Berlin:20261116T183000
DTEND;TZID=Europe/Berlin:20261116T203000
UID:H50110-20261116T183000@VHSWIESBADEN E.V.
SUMMARY:Finanzbuchführung 2 Xpert Business - online (H50110) 
LOCATION:Xpert Business LernNetz, , 
END:VEVENT
BEGIN:VEVENT
DTSTAMP:20260423T013206
DTSTART;TZID=Europe/Berlin:20261123T183000
DTEND;TZID=Europe/Berlin:20261123T203000
UID:H50110-20261123T183000@VHSWIESBADEN E.V.
SUMMARY:Finanzbuchführung 2 Xpert Business - online (H50110) 
LOCATION:Xpert Business LernNetz, , 
END:VEVENT
BEGIN:VEVENT
DTSTAMP:20260423T013206
DTSTART;TZID=Europe/Berlin:20261125T183000
DTEND;TZID=Europe/Berlin:20261125T203000
UID:H50110-20261125T183000@VHSWIESBADEN E.V.
SUMMARY:Finanzbuchführung 2 Xpert Business - online (H50110) 
LOCATION:Xpert Business LernNetz, , 
END:VEVENT
BEGIN:VEVENT
DTSTAMP:20260423T013206
DTSTART;TZID=Europe/Berlin:20261130T183000
DTEND;TZID=Europe/Berlin:20261130T203000
UID:H50110-20261130T183000@VHSWIESBADEN E.V.
SUMMARY:Finanzbuchführung 2 Xpert Business - online (H50110) 
LOCATION:Xpert Business LernNetz, , 
END:VEVENT
BEGIN:VEVENT
DTSTAMP:20260423T013206
DTSTART;TZID=Europe/Berlin:20261202T183000
DTEND;TZID=Europe/Berlin:20261202T203000
UID:H50110-20261202T183000@VHSWIESBADEN E.V.
SUMMARY:Finanzbuchführung 2 Xpert Business - online (H50110) 
LOCATION:Xpert Business LernNetz, , 
END:VEVENT
BEGIN:VEVENT
DTSTAMP:20260423T013206
DTSTART;TZID=Europe/Berlin:20261207T183000
DTEND;TZID=Europe/Berlin:20261207T203000
UID:H50110-20261207T183000@VHSWIESBADEN E.V.
SUMMARY:Finanzbuchführung 2 Xpert Business - online (H50110) 
LOCATION:Xpert Business LernNetz, , 
END:VEVENT
BEGIN:VEVENT
DTSTAMP:20260423T013206
DTSTART;TZID=Europe/Berlin:20261209T183000
DTEND;TZID=Europe/Berlin:20261209T203000
UID:H50110-20261209T183000@VHSWIESBADEN E.V.
SUMMARY:Finanzbuchführung 2 Xpert Business - online (H50110) 
LOCATION:Xpert Business LernNetz, , 
END:VEVENT
BEGIN:VEVENT
DTSTAMP:20260423T013206
DTSTART;TZID=Europe/Berlin:20261214T183000
DTEND;TZID=Europe/Berlin:20261214T203000
UID:H50110-20261214T183000@VHSWIESBADEN E.V.
SUMMARY:Finanzbuchführung 2 Xpert Business - online (H50110) 
LOCATION:Xpert Business LernNetz, , 
END:VEVENT
BEGIN:VEVENT
DTSTAMP:20260423T013206
DTSTART;TZID=Europe/Berlin:20261216T183000
DTEND;TZID=Europe/Berlin:20261216T203000
UID:H50110-20261216T183000@VHSWIESBADEN E.V.
SUMMARY:Finanzbuchführung 2 Xpert Business - online (H50110) 
LOCATION:Xpert Business LernNetz, , 
END:VEVENT
BEGIN:VEVENT
DTSTAMP:20260423T013206
DTSTART;TZID=Europe/Berlin:20270104T183000
DTEND;TZID=Europe/Berlin:20270104T203000
UID:H50110-20270104T183000@VHSWIESBADEN E.V.
SUMMARY:Finanzbuchführung 2 Xpert Business - online (H50110) 
LOCATION:Xpert Business LernNetz, , 
END:VEVENT
BEGIN:VEVENT
DTSTAMP:20260423T013206
DTSTART;TZID=Europe/Berlin:20270106T183000
DTEND;TZID=Europe/Berlin:20270106T203000
UID:H50110-20270106T183000@VHSWIESBADEN E.V.
SUMMARY:Finanzbuchführung 2 Xpert Business - online (H50110) 
LOCATION:Xpert Business LernNetz, , 
END:VEVENT
BEGIN:VEVENT
DTSTAMP:20260423T013206
DTSTART;TZID=Europe/Berlin:20270111T183000
DTEND;TZID=Europe/Berlin:20270111T203000
UID:H50110-20270111T183000@VHSWIESBADEN E.V.
SUMMARY:Finanzbuchführung 2 Xpert Business - online (H50110) 
LOCATION:Xpert Business LernNetz, , 
END:VEVENT
BEGIN:VEVENT
DTSTAMP:20260423T013206
DTSTART;TZID=Europe/Berlin:20270113T183000
DTEND;TZID=Europe/Berlin:20270113T203000
UID:H50110-20270113T183000@VHSWIESBADEN E.V.
SUMMARY:Finanzbuchführung 2 Xpert Business - online (H50110) 
LOCATION:Xpert Business LernNetz, , 
END:VEVENT
BEGIN:VEVENT
DTSTAMP:20260423T013206
DTSTART;TZID=Europe/Berlin:20270118T183000
DTEND;TZID=Europe/Berlin:20270118T203000
UID:H50110-20270118T183000@VHSWIESBADEN E.V.
SUMMARY:Finanzbuchführung 2 Xpert Business - online (H50110) 
LOCATION:Xpert Business LernNetz, , 
END:VEVENT
BEGIN:VEVENT
DTSTAMP:20260423T013206
DTSTART;TZID=Europe/Berlin:20270120T183000
DTEND;TZID=Europe/Berlin:20270120T203000
UID:H50110-20270120T183000@VHSWIESBADEN E.V.
SUMMARY:Finanzbuchführung 2 Xpert Business - online (H50110) 
LOCATION:Xpert Business LernNetz, , 
END:VEVENT
BEGIN:VEVENT
DTSTAMP:20260423T013206
DTSTART;TZID=Europe/Berlin:20270125T183000
DTEND;TZID=Europe/Berlin:20270125T203000
UID:H50110-20270125T183000@VHSWIESBADEN E.V.
SUMMARY:Finanzbuchführung 2 Xpert Business - online (H50110) 
LOCATION:Xpert Business LernNetz, , 
END:VEVENT
BEGIN:VEVENT
DTSTAMP:20260423T013206
DTSTART;TZID=Europe/Berlin:20270127T183000
DTEND;TZID=Europe/Berlin:20270127T203000
UID:H50110-20270127T183000@VHSWIESBADEN E.V.
SUMMARY:Finanzbuchführung 2 Xpert Business - online (H50110) 
LOCATION:Xpert Business LernNetz, , 
END:VEVENT
BEGIN:VEVENT
DTSTAMP:20260423T013206
DTSTART;TZID=Europe/Berlin:20270201T183000
DTEND;TZID=Europe/Berlin:20270201T203000
UID:H50110-20270201T183000@VHSWIESBADEN E.V.
SUMMARY:Finanzbuchführung 2 Xpert Business - online (H50110) 
LOCATION:Xpert Business LernNetz, , 
END:VEVENT
BEGIN:VEVENT
DTSTAMP:20260423T013206
DTSTART;TZID=Europe/Berlin:20270203T183000
DTEND;TZID=Europe/Berlin:20270203T203000
UID:H50110-20270203T183000@VHSWIESBADEN E.V.
SUMMARY:Finanzbuchführung 2 Xpert Business - online (H50110) 
LOCATION:Xpert Business LernNetz, , 
END:VEVENT
END:VCALENDAR