BEGIN:VCALENDAR
VERSION:2.0
PRODID:https://www.kufer.de/kuferweb / DE
METHOD:PUBLISH
CALSCALE:GREGORIAN
X-WR-TIMEZONE:Europe/Berlin
BEGIN:VTIMEZONE
TZID:Europe/Berlin
X-LIC-LOCATION:Europe/Berlin
BEGIN:DAYLIGHT
TZOFFSETFROM:+0100
TZOFFSETTO:+0200
TZNAME:CEST
DTSTART:19700329T020000
RRULE:FREQ=YEARLY;INTERVAL=1;BYDAY=-1SU;BYMONTH=3
END:DAYLIGHT
BEGIN:STANDARD
TZOFFSETFROM:+0200
TZOFFSETTO:+0100
TZNAME:CET
DTSTART:19701025T030000
RRULE:FREQ=YEARLY;INTERVAL=1;BYDAY=-1SU;BYMONTH=10
END:STANDARD
END:VTIMEZONE
BEGIN:VEVENT
DTSTAMP:20260422T213818
DTSTART;TZID=Europe/Berlin:20260706T181500
DTEND;TZID=Europe/Berlin:20260706T203000
UID:H422-204-20260706T181500@VHSWIESBADEN E.V.
SUMMARY:Sommerkurs Spanisch A1 kompakt für die Reise Für Teilnehmende ohne Vorkenntnisse (H422-204) 
LOCATION:vhs-A-209, Alcide-de-Gasperi-Str. 4, 65197 Wiesbaden
END:VEVENT
BEGIN:VEVENT
DTSTAMP:20260422T213818
DTSTART;TZID=Europe/Berlin:20260713T181500
DTEND;TZID=Europe/Berlin:20260713T203000
UID:H422-204-20260713T181500@VHSWIESBADEN E.V.
SUMMARY:Sommerkurs Spanisch A1 kompakt für die Reise Für Teilnehmende ohne Vorkenntnisse (H422-204) 
LOCATION:vhs-A-209, Alcide-de-Gasperi-Str. 4, 65197 Wiesbaden
END:VEVENT
BEGIN:VEVENT
DTSTAMP:20260422T213818
DTSTART;TZID=Europe/Berlin:20260720T181500
DTEND;TZID=Europe/Berlin:20260720T203000
UID:H422-204-20260720T181500@VHSWIESBADEN E.V.
SUMMARY:Sommerkurs Spanisch A1 kompakt für die Reise Für Teilnehmende ohne Vorkenntnisse (H422-204) 
LOCATION:vhs-A-209, Alcide-de-Gasperi-Str. 4, 65197 Wiesbaden
END:VEVENT
BEGIN:VEVENT
DTSTAMP:20260422T213818
DTSTART;TZID=Europe/Berlin:20260727T181500
DTEND;TZID=Europe/Berlin:20260727T203000
UID:H422-204-20260727T181500@VHSWIESBADEN E.V.
SUMMARY:Sommerkurs Spanisch A1 kompakt für die Reise Für Teilnehmende ohne Vorkenntnisse (H422-204) 
LOCATION:vhs-A-209, Alcide-de-Gasperi-Str. 4, 65197 Wiesbaden
END:VEVENT
BEGIN:VEVENT
DTSTAMP:20260422T213818
DTSTART;TZID=Europe/Berlin:20260803T181500
DTEND;TZID=Europe/Berlin:20260803T203000
UID:H422-204-20260803T181500@VHSWIESBADEN E.V.
SUMMARY:Sommerkurs Spanisch A1 kompakt für die Reise Für Teilnehmende ohne Vorkenntnisse (H422-204) 
LOCATION:vhs-A-209, Alcide-de-Gasperi-Str. 4, 65197 Wiesbaden
END:VEVENT
END:VCALENDAR