BEGIN:VCALENDAR
VERSION:2.0
PRODID:https://www.kufer.de/kuferweb / DE
METHOD:PUBLISH
CALSCALE:GREGORIAN
X-WR-TIMEZONE:Europe/Berlin
BEGIN:VTIMEZONE
TZID:Europe/Berlin
X-LIC-LOCATION:Europe/Berlin
BEGIN:DAYLIGHT
TZOFFSETFROM:+0100
TZOFFSETTO:+0200
TZNAME:CEST
DTSTART:19700329T020000
RRULE:FREQ=YEARLY;INTERVAL=1;BYDAY=-1SU;BYMONTH=3
END:DAYLIGHT
BEGIN:STANDARD
TZOFFSETFROM:+0200
TZOFFSETTO:+0100
TZNAME:CET
DTSTART:19701025T030000
RRULE:FREQ=YEARLY;INTERVAL=1;BYDAY=-1SU;BYMONTH=10
END:STANDARD
END:VTIMEZONE
BEGIN:VEVENT
DTSTAMP:20260422T221130
DTSTART;TZID=Europe/Berlin:20260707T104500
DTEND;TZID=Europe/Berlin:20260707T121500
UID:H409-400-20260707T104500@VHSWIESBADEN E.V.
SUMMARY:Sommerkurs Italienisch A2 Auffrischung und Wiederholung (H409-400) 
LOCATION:vhs-A-213, Alcide-de-Gasperi-Str. 4, 65197 Wiesbaden
END:VEVENT
BEGIN:VEVENT
DTSTAMP:20260422T221130
DTSTART;TZID=Europe/Berlin:20260714T104500
DTEND;TZID=Europe/Berlin:20260714T121500
UID:H409-400-20260714T104500@VHSWIESBADEN E.V.
SUMMARY:Sommerkurs Italienisch A2 Auffrischung und Wiederholung (H409-400) 
LOCATION:vhs-A-213, Alcide-de-Gasperi-Str. 4, 65197 Wiesbaden
END:VEVENT
BEGIN:VEVENT
DTSTAMP:20260422T221130
DTSTART;TZID=Europe/Berlin:20260721T104500
DTEND;TZID=Europe/Berlin:20260721T121500
UID:H409-400-20260721T104500@VHSWIESBADEN E.V.
SUMMARY:Sommerkurs Italienisch A2 Auffrischung und Wiederholung (H409-400) 
LOCATION:vhs-A-213, Alcide-de-Gasperi-Str. 4, 65197 Wiesbaden
END:VEVENT
BEGIN:VEVENT
DTSTAMP:20260422T221130
DTSTART;TZID=Europe/Berlin:20260728T104500
DTEND;TZID=Europe/Berlin:20260728T121500
UID:H409-400-20260728T104500@VHSWIESBADEN E.V.
SUMMARY:Sommerkurs Italienisch A2 Auffrischung und Wiederholung (H409-400) 
LOCATION:vhs-A-213, Alcide-de-Gasperi-Str. 4, 65197 Wiesbaden
END:VEVENT
BEGIN:VEVENT
DTSTAMP:20260422T221130
DTSTART;TZID=Europe/Berlin:20260804T104500
DTEND;TZID=Europe/Berlin:20260804T121500
UID:H409-400-20260804T104500@VHSWIESBADEN E.V.
SUMMARY:Sommerkurs Italienisch A2 Auffrischung und Wiederholung (H409-400) 
LOCATION:vhs-A-213, Alcide-de-Gasperi-Str. 4, 65197 Wiesbaden
END:VEVENT
END:VCALENDAR