BEGIN:VCALENDAR
VERSION:2.0
PRODID:https://www.kufer.de/kuferweb / DE
METHOD:PUBLISH
CALSCALE:GREGORIAN
X-WR-TIMEZONE:Europe/Berlin
BEGIN:VTIMEZONE
TZID:Europe/Berlin
X-LIC-LOCATION:Europe/Berlin
BEGIN:DAYLIGHT
TZOFFSETFROM:+0100
TZOFFSETTO:+0200
TZNAME:CEST
DTSTART:19700329T020000
RRULE:FREQ=YEARLY;INTERVAL=1;BYDAY=-1SU;BYMONTH=3
END:DAYLIGHT
BEGIN:STANDARD
TZOFFSETFROM:+0200
TZOFFSETTO:+0100
TZNAME:CET
DTSTART:19701025T030000
RRULE:FREQ=YEARLY;INTERVAL=1;BYDAY=-1SU;BYMONTH=10
END:STANDARD
END:VTIMEZONE
BEGIN:VEVENT
DTSTAMP:20260423T041020
DTSTART;TZID=Europe/Berlin:20260731T170000
DTEND;TZID=Europe/Berlin:20260731T200000
UID:H408-120-20260731T170000@VHSWIESBADEN E.V.
SUMMARY:Sommerkurs Französisch A1.1 Wochenend-Intensivkurs Für Teilnehmende ohne Vorkenntnisse (H408-120) 
LOCATION:vhs-A-214, Alcide-de-Gasperi-Str. 4, 65197 Wiesbaden
END:VEVENT
BEGIN:VEVENT
DTSTAMP:20260423T041020
DTSTART;TZID=Europe/Berlin:20260801T090000
DTEND;TZID=Europe/Berlin:20260801T170000
UID:H408-120-20260801T090000@VHSWIESBADEN E.V.
SUMMARY:Sommerkurs Französisch A1.1 Wochenend-Intensivkurs Für Teilnehmende ohne Vorkenntnisse (H408-120) 
LOCATION:vhs-A-214, Alcide-de-Gasperi-Str. 4, 65197 Wiesbaden
END:VEVENT
BEGIN:VEVENT
DTSTAMP:20260423T041020
DTSTART;TZID=Europe/Berlin:20260802T090000
DTEND;TZID=Europe/Berlin:20260802T130000
UID:H408-120-20260802T090000@VHSWIESBADEN E.V.
SUMMARY:Sommerkurs Französisch A1.1 Wochenend-Intensivkurs Für Teilnehmende ohne Vorkenntnisse (H408-120) 
LOCATION:vhs-A-214, Alcide-de-Gasperi-Str. 4, 65197 Wiesbaden
END:VEVENT
END:VCALENDAR