BEGIN:VCALENDAR
VERSION:2.0
PRODID:https://www.kufer.de/kuferweb / DE
METHOD:PUBLISH
CALSCALE:GREGORIAN
X-WR-TIMEZONE:Europe/Berlin
BEGIN:VTIMEZONE
TZID:Europe/Berlin
X-LIC-LOCATION:Europe/Berlin
BEGIN:DAYLIGHT
TZOFFSETFROM:+0100
TZOFFSETTO:+0200
TZNAME:CEST
DTSTART:19700329T020000
RRULE:FREQ=YEARLY;INTERVAL=1;BYDAY=-1SU;BYMONTH=3
END:DAYLIGHT
BEGIN:STANDARD
TZOFFSETFROM:+0200
TZOFFSETTO:+0100
TZNAME:CET
DTSTART:19701025T030000
RRULE:FREQ=YEARLY;INTERVAL=1;BYDAY=-1SU;BYMONTH=10
END:STANDARD
END:VTIMEZONE
BEGIN:VEVENT
DTSTAMP:20260422T182101
DTSTART;TZID=Europe/Berlin:20260929T140000
DTEND;TZID=Europe/Berlin:20260929T170000
UID:H15109-20260929T140000@VHSWIESBADEN E.V.
SUMMARY:Ruhestand bringt Zeit für Neues Nachberufliches Engagement als gelungener Einstieg in den Un-Ruhestand (H15109) 
LOCATION:Freiwilligenzentrum, Friedrichstraße 32, , 
END:VEVENT
END:VCALENDAR